BEGIN:VCALENDAR
VERSION:2.0
PRODID:-//St Peter&#039;s Church - ECPv6.15.20//NONSGML v1.0//EN
CALSCALE:GREGORIAN
METHOD:PUBLISH
X-ORIGINAL-URL:https://www.stpeterschurchchorley.co.uk
X-WR-CALDESC:Events for St Peter&#039;s Church
REFRESH-INTERVAL;VALUE=DURATION:PT1H
X-Robots-Tag:noindex
X-PUBLISHED-TTL:PT1H
BEGIN:VTIMEZONE
TZID:UTC
BEGIN:STANDARD
TZOFFSETFROM:+0000
TZOFFSETTO:+0000
TZNAME:UTC
DTSTART:20230101T000000
END:STANDARD
END:VTIMEZONE
BEGIN:VEVENT
DTSTART;TZID=UTC:20240324T095500
DTEND;TZID=UTC:20240324T113000
DTSTAMP:20260420T084912
CREATED:20240227T131845Z
LAST-MODIFIED:20240312T113551Z
UID:1783-1711274100-1711279800@www.stpeterschurchchorley.co.uk
SUMMARY:Palm Sunday Eucharist
DESCRIPTION:Join us as we remember Jesus’ triumphant entry into Jerusalem. \nMeet outside at 9.55am for the 10am service for palm blessings\, weather permitting!
URL:https://www.stpeterschurchchorley.co.uk/event/palm-sunday-eucharist/
LOCATION:St Peters Church\, Harpers Lane
ORGANIZER;CN="Rev Rebecca":MAILTO:chorleystpetersvicar@gmail.com
END:VEVENT
END:VCALENDAR