BEGIN:VCALENDAR
VERSION:2.0
PRODID:-//St Peter&#039;s Church - ECPv6.15.20//NONSGML v1.0//EN
CALSCALE:GREGORIAN
METHOD:PUBLISH
X-WR-CALNAME:St Peter&#039;s Church
X-ORIGINAL-URL:https://www.stpeterschurchchorley.co.uk
X-WR-CALDESC:Events for St Peter&#039;s Church
REFRESH-INTERVAL;VALUE=DURATION:PT1H
X-Robots-Tag:noindex
X-PUBLISHED-TTL:PT1H
BEGIN:VTIMEZONE
TZID:UTC
BEGIN:STANDARD
TZOFFSETFROM:+0000
TZOFFSETTO:+0000
TZNAME:UTC
DTSTART:20230101T000000
END:STANDARD
END:VTIMEZONE
BEGIN:VEVENT
DTSTART;TZID=UTC:20240327T100000
DTEND;TZID=UTC:20240327T110000
DTSTAMP:20260420T084735
CREATED:20240326T141711Z
LAST-MODIFIED:20240326T141711Z
UID:1878-1711533600-1711537200@www.stpeterschurchchorley.co.uk
SUMMARY:Spy Wednesday Eucharist
DESCRIPTION:Wednesday of Holy Week is sometimes called Spy Wednesday\, when we commemorate the betrayal of Jesus by Judas\, one of the 12 disciples. \nSack with the thirty silver coins biblical symbol of the betrayal of judas. 
URL:https://www.stpeterschurchchorley.co.uk/event/spy-wednesday-eucharist/
LOCATION:St Peters Church\, Harpers Lane
ORGANIZER;CN="Rev Rebecca":MAILTO:chorleystpetersvicar@gmail.com
END:VEVENT
END:VCALENDAR