BEGIN:VCALENDAR
VERSION:2.0
PRODID:-//St Peter&#039;s Church - ECPv6.15.20//NONSGML v1.0//EN
CALSCALE:GREGORIAN
METHOD:PUBLISH
X-WR-CALNAME:St Peter&#039;s Church
X-ORIGINAL-URL:https://www.stpeterschurchchorley.co.uk
X-WR-CALDESC:Events for St Peter&#039;s Church
REFRESH-INTERVAL;VALUE=DURATION:PT1H
X-Robots-Tag:noindex
X-PUBLISHED-TTL:PT1H
BEGIN:VTIMEZONE
TZID:UTC
BEGIN:STANDARD
TZOFFSETFROM:+0000
TZOFFSETTO:+0000
TZNAME:UTC
DTSTART:20230101T000000
END:STANDARD
END:VTIMEZONE
BEGIN:VEVENT
DTSTART;TZID=UTC:20240328T193000
DTEND;TZID=UTC:20240328T210000
DTSTAMP:20260420T084639
CREATED:20240227T120904Z
LAST-MODIFIED:20240227T131242Z
UID:1769-1711654200-1711659600@www.stpeterschurchchorley.co.uk
SUMMARY:Maundy Thursday Service
DESCRIPTION:We are joining our friends at St Laurence’s Church for this evening service.
URL:https://www.stpeterschurchchorley.co.uk/event/maundy-thursday-service/
LOCATION:St Laurence’s Church\, Union Street\, Chorley\, PR7 1EB
ORGANIZER;CN="Rev Rebecca":MAILTO:chorleystpetersvicar@gmail.com
END:VEVENT
END:VCALENDAR