BEGIN:VCALENDAR
VERSION:2.0
PRODID:-//St Peter&#039;s Church - ECPv6.15.20//NONSGML v1.0//EN
CALSCALE:GREGORIAN
METHOD:PUBLISH
X-WR-CALNAME:St Peter&#039;s Church
X-ORIGINAL-URL:https://www.stpeterschurchchorley.co.uk
X-WR-CALDESC:Events for St Peter&#039;s Church
REFRESH-INTERVAL;VALUE=DURATION:PT1H
X-Robots-Tag:noindex
X-PUBLISHED-TTL:PT1H
BEGIN:VTIMEZONE
TZID:UTC
BEGIN:STANDARD
TZOFFSETFROM:+0000
TZOFFSETTO:+0000
TZNAME:UTC
DTSTART:20230101T000000
END:STANDARD
END:VTIMEZONE
BEGIN:VEVENT
DTSTART;TZID=UTC:20240329T100000
DTEND;TZID=UTC:20240329T110000
DTSTAMP:20260420T084550
CREATED:20240312T112901Z
LAST-MODIFIED:20240312T113710Z
UID:1830-1711706400-1711710000@www.stpeterschurchchorley.co.uk
SUMMARY:Stations of the Cross
DESCRIPTION:
URL:https://www.stpeterschurchchorley.co.uk/event/stations-of-the-cross/
LOCATION:St Peters Church\, Harpers Lane
END:VEVENT
BEGIN:VEVENT
DTSTART;TZID=UTC:20240329T133000
DTEND;TZID=UTC:20240329T150000
DTSTAMP:20260420T084550
CREATED:20240227T121033Z
LAST-MODIFIED:20240312T112757Z
UID:1772-1711719000-1711724400@www.stpeterschurchchorley.co.uk
SUMMARY:Good Friday  - Solemn Liturgy
DESCRIPTION:
URL:https://www.stpeterschurchchorley.co.uk/event/good-friday-service/
LOCATION:St Peters Church\, Harpers Lane
ORGANIZER;CN="Rev Rebecca":MAILTO:chorleystpetersvicar@gmail.com
END:VEVENT
END:VCALENDAR