BEGIN:VCALENDAR
VERSION:2.0
PRODID:-//St Peter&#039;s Church - ECPv6.15.20//NONSGML v1.0//EN
CALSCALE:GREGORIAN
METHOD:PUBLISH
X-WR-CALNAME:St Peter&#039;s Church
X-ORIGINAL-URL:https://www.stpeterschurchchorley.co.uk
X-WR-CALDESC:Events for St Peter&#039;s Church
REFRESH-INTERVAL;VALUE=DURATION:PT1H
X-Robots-Tag:noindex
X-PUBLISHED-TTL:PT1H
BEGIN:VTIMEZONE
TZID:UTC
BEGIN:STANDARD
TZOFFSETFROM:+0000
TZOFFSETTO:+0000
TZNAME:UTC
DTSTART:20230101T000000
END:STANDARD
END:VTIMEZONE
BEGIN:VEVENT
DTSTART;TZID=UTC:20240412T190000
DTEND;TZID=UTC:20240412T210000
DTSTAMP:20260420T073140
CREATED:20240305T120132Z
LAST-MODIFIED:20240306T144309Z
UID:1792-1712948400-1712955600@www.stpeterschurchchorley.co.uk
SUMMARY:Brownies Chocolate Bingo
DESCRIPTION:This is a ticketed event and tickets cost £1. Please email Eve for more information or to obtain a ticket on 4thchorleystpetersbrownies@gmail.com
URL:https://www.stpeterschurchchorley.co.uk/event/brownies-chocolate-bingo/
LOCATION:Church Hall\, Harpers Lane\, Chorley\, Lancashire\, PR6 0HPP\, United Kingdom
ORGANIZER;CN="Eve Wilson":MAILTO:4thchorleystpetersbrownies@gmail.com
END:VEVENT
END:VCALENDAR