BEGIN:VCALENDAR
VERSION:2.0
PRODID:-//St Peter&#039;s Church - ECPv6.15.20//NONSGML v1.0//EN
CALSCALE:GREGORIAN
METHOD:PUBLISH
X-ORIGINAL-URL:https://www.stpeterschurchchorley.co.uk
X-WR-CALDESC:Events for St Peter&#039;s Church
REFRESH-INTERVAL;VALUE=DURATION:PT1H
X-Robots-Tag:noindex
X-PUBLISHED-TTL:PT1H
BEGIN:VTIMEZONE
TZID:UTC
BEGIN:STANDARD
TZOFFSETFROM:+0000
TZOFFSETTO:+0000
TZNAME:UTC
DTSTART:20230101T000000
END:STANDARD
END:VTIMEZONE
BEGIN:VEVENT
DTSTART;TZID=UTC:20240518T150000
DTEND;TZID=UTC:20240518T170000
DTSTAMP:20260420T060710
CREATED:20240327T113449Z
LAST-MODIFIED:20240402T124709Z
UID:1883-1716044400-1716051600@www.stpeterschurchchorley.co.uk
SUMMARY:Deanery Mission 60s Concert
DESCRIPTION:Come and enjoy a concert of 60s music\, performed by the fabulous La Bamba! \nThe event will include a raffle and will be followed by hotpot and refreshments over in the Church Hall. \nAll welcome and donations welcome.
URL:https://www.stpeterschurchchorley.co.uk/event/deanery-mission-60s-concert/
LOCATION:St Peters Church\, Harpers Lane
ORGANIZER;CN="St Peter's PCC":MAILTO:chorleystp.office@gmail.com
END:VEVENT
END:VCALENDAR