BEGIN:VCALENDAR
VERSION:2.0
PRODID:-//St Peter&#039;s Church - ECPv6.15.20//NONSGML v1.0//EN
CALSCALE:GREGORIAN
METHOD:PUBLISH
X-ORIGINAL-URL:https://www.stpeterschurchchorley.co.uk
X-WR-CALDESC:Events for St Peter&#039;s Church
REFRESH-INTERVAL;VALUE=DURATION:PT1H
X-Robots-Tag:noindex
X-PUBLISHED-TTL:PT1H
BEGIN:VTIMEZONE
TZID:UTC
BEGIN:STANDARD
TZOFFSETFROM:+0000
TZOFFSETTO:+0000
TZNAME:UTC
DTSTART:20230101T000000
END:STANDARD
END:VTIMEZONE
BEGIN:VEVENT
DTSTART;TZID=UTC:20241104T140000
DTEND;TZID=UTC:20241104T160000
DTSTAMP:20260419T220154
CREATED:20241030T101047Z
LAST-MODIFIED:20241030T101047Z
UID:2259-1730728800-1730736000@www.stpeterschurchchorley.co.uk
SUMMARY:Monday Club
DESCRIPTION:A friendship group aimed at people aged 65 and over which meets every Monday 2-4pm in the meeting room. A varied programme of events/speakers. \nPlease contact Eric on 01257 794372 for more information.
URL:https://www.stpeterschurchchorley.co.uk/event/monday-club/
LOCATION:Church Hall\, Harpers Lane\, Chorley\, Lancashire\, PR6 0HPP\, United Kingdom
END:VEVENT
END:VCALENDAR