BEGIN:VCALENDAR
VERSION:2.0
PRODID:-//St Peter&#039;s Church - ECPv6.15.20//NONSGML v1.0//EN
CALSCALE:GREGORIAN
METHOD:PUBLISH
X-ORIGINAL-URL:https://www.stpeterschurchchorley.co.uk
X-WR-CALDESC:Events for St Peter&#039;s Church
REFRESH-INTERVAL;VALUE=DURATION:PT1H
X-Robots-Tag:noindex
X-PUBLISHED-TTL:PT1H
BEGIN:VTIMEZONE
TZID:UTC
BEGIN:STANDARD
TZOFFSETFROM:+0000
TZOFFSETTO:+0000
TZNAME:UTC
DTSTART:20230101T000000
END:STANDARD
END:VTIMEZONE
BEGIN:VEVENT
DTSTART;TZID=UTC:20241117T180000
DTEND;TZID=UTC:20241117T200000
DTSTAMP:20260419T220152
CREATED:20241030T132040Z
LAST-MODIFIED:20241030T132222Z
UID:2280-1731866400-1731873600@www.stpeterschurchchorley.co.uk
SUMMARY:Youth Group
DESCRIPTION:
URL:https://www.stpeterschurchchorley.co.uk/event/youth-group/
LOCATION:Church Hall\, Harpers Lane\, Chorley\, Lancashire\, PR6 0HPP\, United Kingdom
END:VEVENT
END:VCALENDAR