BEGIN:VCALENDAR
VERSION:2.0
PRODID:-//St Peter&#039;s Church - ECPv6.15.20//NONSGML v1.0//EN
CALSCALE:GREGORIAN
METHOD:PUBLISH
X-WR-CALNAME:St Peter&#039;s Church
X-ORIGINAL-URL:https://www.stpeterschurchchorley.co.uk
X-WR-CALDESC:Events for St Peter&#039;s Church
REFRESH-INTERVAL;VALUE=DURATION:PT1H
X-Robots-Tag:noindex
X-PUBLISHED-TTL:PT1H
BEGIN:VTIMEZONE
TZID:UTC
BEGIN:STANDARD
TZOFFSETFROM:+0000
TZOFFSETTO:+0000
TZNAME:UTC
DTSTART:20230101T000000
END:STANDARD
END:VTIMEZONE
BEGIN:VEVENT
DTSTART;TZID=UTC:20241127T190000
DTEND;TZID=UTC:20241127T203000
DTSTAMP:20260419T204044
CREATED:20241030T102051Z
LAST-MODIFIED:20241030T131804Z
UID:2269-1732734000-1732739400@www.stpeterschurchchorley.co.uk
SUMMARY:Bible Book Club
DESCRIPTION:St Laurence’s and St Peter’s Bible Book Club. All welcome\, held in St Peter’s Vicarage.
URL:https://www.stpeterschurchchorley.co.uk/event/bible-book-club-2/
LOCATION:St Peter’s Vicarge\, Harpers Lane\, Chorley\, PR6 0HP\, United Kingdom
END:VEVENT
END:VCALENDAR