BEGIN:VCALENDAR
VERSION:2.0
PRODID:-//St Peter&#039;s Church - ECPv6.15.20//NONSGML v1.0//EN
CALSCALE:GREGORIAN
METHOD:PUBLISH
X-ORIGINAL-URL:https://www.stpeterschurchchorley.co.uk
X-WR-CALDESC:Events for St Peter&#039;s Church
REFRESH-INTERVAL;VALUE=DURATION:PT1H
X-Robots-Tag:noindex
X-PUBLISHED-TTL:PT1H
BEGIN:VTIMEZONE
TZID:UTC
BEGIN:STANDARD
TZOFFSETFROM:+0000
TZOFFSETTO:+0000
TZNAME:UTC
DTSTART:20240101T000000
END:STANDARD
END:VTIMEZONE
BEGIN:VEVENT
DTSTART;TZID=UTC:20250120T140000
DTEND;TZID=UTC:20250120T160000
DTSTAMP:20260419T184724
CREATED:20250114T095858Z
LAST-MODIFIED:20250114T095858Z
UID:2362-1737381600-1737388800@www.stpeterschurchchorley.co.uk
SUMMARY:Monday Club
DESCRIPTION:Monday Club – Jan – June 2025 PDF \nMonday Club meets in the church meeting room (church hall) every Monday at 2pm – 4pm. It is a friendship group aimed at people aged 65 and over. It is run by Eric Crompton. Each week there is something different from bingo to visiting vocalists and trips out. Please see the PDF form above to see what’s on each week. \nFor more information please ring Eric on 01257 794372.
URL:https://www.stpeterschurchchorley.co.uk/event/monday-club-2/
LOCATION:Church Hall\, Harpers Lane\, Chorley\, Lancashire\, PR6 0HPP\, United Kingdom
END:VEVENT
END:VCALENDAR