BEGIN:VCALENDAR
VERSION:2.0
PRODID:-//St Peter&#039;s Church - ECPv6.15.20//NONSGML v1.0//EN
CALSCALE:GREGORIAN
METHOD:PUBLISH
X-WR-CALNAME:St Peter&#039;s Church
X-ORIGINAL-URL:https://www.stpeterschurchchorley.co.uk
X-WR-CALDESC:Events for St Peter&#039;s Church
REFRESH-INTERVAL;VALUE=DURATION:PT1H
X-Robots-Tag:noindex
X-PUBLISHED-TTL:PT1H
BEGIN:VTIMEZONE
TZID:UTC
BEGIN:STANDARD
TZOFFSETFROM:+0000
TZOFFSETTO:+0000
TZNAME:UTC
DTSTART:20230101T000000
END:STANDARD
END:VTIMEZONE
BEGIN:VEVENT
DTSTART;TZID=UTC:20240620T193000
DTEND;TZID=UTC:20240620T210000
DTSTAMP:20260420T031641
CREATED:20240409T145733Z
LAST-MODIFIED:20240409T145733Z
UID:1910-1718911800-1718917200@www.stpeterschurchchorley.co.uk
SUMMARY:PCC Meeting
DESCRIPTION:
URL:https://www.stpeterschurchchorley.co.uk/event/pcc-meeting-2/
LOCATION:St Peters Church\, Harpers Lane
ORGANIZER;CN="St Peter's PCC":MAILTO:chorleystp.office@gmail.com
END:VEVENT
BEGIN:VEVENT
DTSTART;TZID=UTC:20240623T120000
DTEND;TZID=UTC:20240623T150000
DTSTAMP:20260420T031641
CREATED:20240611T105401Z
LAST-MODIFIED:20240611T114100Z
UID:2031-1719144000-1719154800@www.stpeterschurchchorley.co.uk
SUMMARY:Walking Day
DESCRIPTION:Walking Day June 23rd  \nWALKING DAY. Sunday 23rd June\, please assemble in Cunliffe Street at 12noon. Please bring a picnic to share afterwards and there will be games for children. \n\nWe welcome this annual opportunity to walk through our town to demonstrate our faith\, so whether you’re walking as a member of the congregation\, choir\, Sunday School\, Uniformed organisations or school you will be more than welcome to join us.
URL:https://www.stpeterschurchchorley.co.uk/event/walking-day/
LOCATION:Lancashire
ORGANIZER;CN="St Peter's PCC":MAILTO:chorleystp.office@gmail.com
END:VEVENT
END:VCALENDAR