BEGIN:VCALENDAR
VERSION:2.0
PRODID:-//St Peter&#039;s Church - ECPv6.15.20//NONSGML v1.0//EN
CALSCALE:GREGORIAN
METHOD:PUBLISH
X-ORIGINAL-URL:https://www.stpeterschurchchorley.co.uk
X-WR-CALDESC:Events for St Peter&#039;s Church
REFRESH-INTERVAL;VALUE=DURATION:PT1H
X-Robots-Tag:noindex
X-PUBLISHED-TTL:PT1H
BEGIN:VTIMEZONE
TZID:UTC
BEGIN:STANDARD
TZOFFSETFROM:+0000
TZOFFSETTO:+0000
TZNAME:UTC
DTSTART:20230101T000000
END:STANDARD
END:VTIMEZONE
BEGIN:VEVENT
DTSTART;TZID=UTC:20241202T120000
DTEND;TZID=UTC:20241202T170000
DTSTAMP:20260419T185152
CREATED:20241120T113215Z
LAST-MODIFIED:20241120T113215Z
UID:2301-1733140800-1733158800@www.stpeterschurchchorley.co.uk
SUMMARY:Monday Club - Trip to Cleveleys
DESCRIPTION:Monday Club is a friendship group aimed at people aged 65 and over. We meet in the meeting room behind St Peter’s Church and have a different activity each week. This week we have a trip to The Venue\, a hotel in Cleveleys.                                                           . \nFor more information please contact Eric on 01257 794372.
URL:https://www.stpeterschurchchorley.co.uk/event/monday-club-trip-to-cleveleys/
LOCATION:Church Hall\, Harpers Lane\, Chorley\, Lancashire\, PR6 0HPP\, United Kingdom
END:VEVENT
BEGIN:VEVENT
DTSTART;TZID=UTC:20241207T100000
DTEND;TZID=UTC:20241207T150000
DTSTAMP:20260419T185152
CREATED:20241030T101230Z
LAST-MODIFIED:20241030T131739Z
UID:2262-1733565600-1733583600@www.stpeterschurchchorley.co.uk
SUMMARY:Christmas Fair and Christmas Tree Festival
DESCRIPTION: Tables cost £10 and can be booked through Ronnie Hunter. 
URL:https://www.stpeterschurchchorley.co.uk/event/christmas-fair-and-christmas-tree-festival/
LOCATION:St Peters Church\, Harpers Lane
ORGANIZER;CN="St Peter's PCC":MAILTO:chorleystp.office@gmail.com
END:VEVENT
BEGIN:VEVENT
DTSTART;VALUE=DATE:20241210
DTEND;VALUE=DATE:20241211
DTSTAMP:20260419T185152
CREATED:20241210T115311Z
LAST-MODIFIED:20241210T122407Z
UID:2320-1733788800-1733875199@www.stpeterschurchchorley.co.uk
SUMMARY:Christmas Services - click to view.
DESCRIPTION:
URL:https://www.stpeterschurchchorley.co.uk/event/christmas-services-click-to-view/
LOCATION:St Peters Church\, Harpers Lane
ORGANIZER;CN="St Peter's PCC":MAILTO:chorleystp.office@gmail.com
END:VEVENT
BEGIN:VEVENT
DTSTART;TZID=UTC:20241216T140000
DTEND;TZID=UTC:20241216T160000
DTSTAMP:20260419T185152
CREATED:20241120T113305Z
LAST-MODIFIED:20241120T113305Z
UID:2304-1734357600-1734364800@www.stpeterschurchchorley.co.uk
SUMMARY:Monday Club - Christmas Bingo
DESCRIPTION:Monday Club is a friendship group aimed at people aged 65 and over. We meet in the meeting room behind St Peter’s Church and have a different activity each week. \nFor more information please contact Eric on 01257 794372.
URL:https://www.stpeterschurchchorley.co.uk/event/monday-club-christmas-bingo/
LOCATION:Church Hall\, Harpers Lane\, Chorley\, Lancashire\, PR6 0HPP\, United Kingdom
END:VEVENT
BEGIN:VEVENT
DTSTART;TZID=UTC:20241224T150000
DTEND;TZID=UTC:20241224T163000
DTSTAMP:20260419T185152
CREATED:20241210T115051Z
LAST-MODIFIED:20241210T121556Z
UID:2321-1735052400-1735057800@www.stpeterschurchchorley.co.uk
SUMMARY:Crib Service with Nativity presentation & Holy Communion
DESCRIPTION:Service in church will be followed by hot chocolate & mince pies.
URL:https://www.stpeterschurchchorley.co.uk/event/crib-service-with-nativity-presentation-holy-communion/
LOCATION:St Peters Church\, Harpers Lane
END:VEVENT
BEGIN:VEVENT
DTSTART;TZID=UTC:20241225T100000
DTEND;TZID=UTC:20241225T110000
DTSTAMP:20260419T185152
CREATED:20241210T115137Z
LAST-MODIFIED:20241210T121620Z
UID:2324-1735120800-1735124400@www.stpeterschurchchorley.co.uk
SUMMARY:Christmas Day Service
DESCRIPTION:
URL:https://www.stpeterschurchchorley.co.uk/event/christmas-day-service/
LOCATION:St Peters Church\, Harpers Lane
END:VEVENT
END:VCALENDAR